BEGIN:VCALENDAR
VERSION:2.0
PRODID:-//artifica.one//Fréville-du-Gâtinais//FR
CALSCALE:GREGORIAN
METHOD:PUBLISH
BEGIN:VEVENT
SUMMARY:Cérémonie du 08 mai à Fréville-du-GâtinaisCé
 rémonie du 08 mai à Fréville-du-Gâtinais
UID:3609
SEQUENCE:0
STATUS:CONFIRMED
TRANSP:TRANSPARENT
DTSTART:20260424T060000Z
DTEND:20260508T180000Z
DTSTAMP:20260424T090426Z
CATEGORIES:Commémoration
LOCATION:Mairie de Fréville-du-Gâtinais
 2 Place Louis Croum
 45270 Fréville-du-Gâtinais 
GEO:48.024094;2.444765
DESCRIPTION:
URL:https://www.frevilledugatinais.fr/agenda/ceremonie-du-08-mai-a-freville-du-gatinaisceremonie-du-08-mai-a-freville-du-gatinais-3609
END:VEVENT
END:VCALENDAR
